BEGIN:VCALENDAR
VERSION:2.0
PRODID:-//ChamberMaster//Event Calendar 2.0//EN
METHOD:PUBLISH
X-PUBLISHED-TTL:P3D
REFRESH-INTERVAL:P3D
CALSCALE:GREGORIAN
BEGIN:VEVENT
DTSTART:20110829T233000Z
DTEND:20110902T013000Z
X-MICROSOFT-CDO-ALLDAYEVENT:FALSE
SUMMARY:College Application Boot Camp
DESCRIPTION:If you have a high school senior\, or know of one\, then this information is for you/them.\n\n\n\nIn conjunction with College Advice from Armonk\, we are offering our college app boot camp again this August prior to the start of school. This is the best time to start\, mold\, and finish the main essay[s] that are required on the college application BEFORE school starts. Receive individualized attention in a group setting. Each student will have multiple College Admission Professionals read their essay.\n\n\n\nSessions start on Monday Aug 29th and continue through Thursday Sept 1st.   Each session starts at 7:30 and ends at 9:30 pm. Students can sign up for one or multiple evening sessions. \n\n\n\nPlease call or email to ask any questions that you have.\n\n\n\nNeal Schwartz\n\nTutoring Club\n\narmonkny@tutoringclub.com\n\n914-273-2353
X-ALT-DESC;FMTTYPE=text/html:If you have a high school senior\, or know of one\, then this information is for you/them.<br />\n<br />\nIn conjunction with College Advice from Armonk\, we are offering our college app boot camp again this August prior to the start of school. This is the best time to start\, mold\, and finish the main essay[s] that are required on the college application BEFORE school starts. Receive individualized attention in a group setting. Each student will have multiple College Admission Professionals read their essay.<br />\n<br />\nSessions start on Monday Aug 29th and continue through Thursday Sept 1st.&nbsp\;&nbsp\; Each session starts at 7:30 and ends at 9:30 pm. <strong><span style="color: #0000ff">Students can sign up for one or multiple evening sessions. </span></strong><br />\n<br />\nPlease call or email to ask any questions that you have.<br />\n<br />\nNeal Schwartz<br />\nTutoring Club<br />\narmonkny@tutoringclub.com<br />\n914-273-2353<br />\n<br />\n
LOCATION:Tutoring Club\, 475 Main Street\, Armonk
UID:e.1129.65
SEQUENCE:3
DTSTAMP:20260420T063038Z
URL:http://armonkchamber.chambermaster.com/events/details/college-application-boot-camp-08-29-2011-65
END:VEVENT

END:VCALENDAR
