BEGIN:VCALENDAR
VERSION:2.0
PRODID:-//ChamberMaster//Event Calendar 2.0//EN
METHOD:PUBLISH
X-PUBLISHED-TTL:P3D
REFRESH-INTERVAL:P3D
CALSCALE:GREGORIAN
BEGIN:VEVENT
DTSTART;VALUE=DATE:20111005
DTEND;VALUE=DATE:20111006
TRANSP:TRANSPARENT
X-MICROSOFT-CDO-ALLDAYEVENT:TRUE
SUMMARY:Chamber Golf Outing and Networking
DESCRIPTION:1st Annual Armonk Chamber of Commerce Golf Outing and Networking Event\n\n\n\nGolf 12:30 Shotgun start\n\n\n\nReception 5:30 to 7:00 pm\n\n\n\nCome to Golf and/or Reception
X-ALT-DESC;FMTTYPE=text/html:1st Annual Armonk Chamber of Commerce Golf Outing and Networking Event<br />\n<br />\nGolf 12:30 Shotgun start<br />\n<br />\nReception 5:30 to 7:00 pm<br />\n<br />\nCome to Golf and/or Reception<br />\n<br />\n<br />\n
LOCATION:Brynwood Country Club\, Route 22\, Armonk\, NY
UID:e.1129.56
SEQUENCE:3
DTSTAMP:20260419T235212Z
URL:http://armonkchamber.chambermaster.com/events/details/chamber-golf-outing-and-networking-10-05-2011-56
END:VEVENT

END:VCALENDAR
