BEGIN:VCALENDAR
VERSION:2.0
PRODID:-//ChamberMaster//Event Calendar 2.0//EN
METHOD:PUBLISH
X-PUBLISHED-TTL:P3D
REFRESH-INTERVAL:P3D
CALSCALE:GREGORIAN
BEGIN:VEVENT
DTSTART;VALUE=DATE:20110924
DTEND;VALUE=DATE:20110926
TRANSP:TRANSPARENT
X-MICROSOFT-CDO-ALLDAYEVENT:TRUE
SUMMARY:Art Show
DESCRIPTION:Armonk Outdoor Art Show - 50th Anniversary!
X-ALT-DESC;FMTTYPE=text/html:Armonk Outdoor Art Show - 50th Anniversary!
LOCATION:
UID:e.1129.3
SEQUENCE:3
DTSTAMP:20260424T052507Z
URL:http://armonkchamber.chambermaster.com/events/details/art-show-09-24-2011-3
END:VEVENT

END:VCALENDAR
